BEGIN:VCALENDAR
VERSION:2.0
PRODID:-//The Dante Society of Westerly, RI - ECPv6.15.20//NONSGML v1.0//EN
CALSCALE:GREGORIAN
METHOD:PUBLISH
X-WR-CALNAME:The Dante Society of Westerly, RI
X-ORIGINAL-URL:https://dantesocietywesterly.org
X-WR-CALDESC:Events for The Dante Society of Westerly, RI
REFRESH-INTERVAL;VALUE=DURATION:PT1H
X-Robots-Tag:noindex
X-PUBLISHED-TTL:PT1H
BEGIN:VTIMEZONE
TZID:America/New_York
BEGIN:DAYLIGHT
TZOFFSETFROM:-0500
TZOFFSETTO:-0400
TZNAME:EDT
DTSTART:20250309T070000
END:DAYLIGHT
BEGIN:STANDARD
TZOFFSETFROM:-0400
TZOFFSETTO:-0500
TZNAME:EST
DTSTART:20251102T060000
END:STANDARD
BEGIN:DAYLIGHT
TZOFFSETFROM:-0500
TZOFFSETTO:-0400
TZNAME:EDT
DTSTART:20260308T070000
END:DAYLIGHT
BEGIN:STANDARD
TZOFFSETFROM:-0400
TZOFFSETTO:-0500
TZNAME:EST
DTSTART:20261101T060000
END:STANDARD
BEGIN:DAYLIGHT
TZOFFSETFROM:-0500
TZOFFSETTO:-0400
TZNAME:EDT
DTSTART:20270314T070000
END:DAYLIGHT
BEGIN:STANDARD
TZOFFSETFROM:-0400
TZOFFSETTO:-0500
TZNAME:EST
DTSTART:20271107T060000
END:STANDARD
END:VTIMEZONE
BEGIN:VEVENT
DTSTART;TZID=America/New_York:20260509T090000
DTEND;TZID=America/New_York:20260509T120000
DTSTAMP:20260426T003401
CREATED:20260206T011920Z
LAST-MODIFIED:20260219T155824Z
UID:3692-1778317200-1778328000@dantesocietywesterly.org
SUMMARY:2026 Annual Fried Dough Breakfast
DESCRIPTION:Dante Society of Westerly is hosting a Fried Dough Breakfast and Bake Sale. \nProceeds from the event help support educational grants and scholarships in keeping with the mission of the Dante Society. \nCost is $10 for 12 and older\, $5 for under 12 yrs. \nTickets may be purchased in advance from members of the Dante Society of Westerly\, or at the door. \n\nSociety members are encouraged to volunteer to assist with the event.  Volunteer forms may be found by clicking on the “Volunteer” button below: Volunteer
URL:https://dantesocietywesterly.org/event/2026-annual-fried-dough-breakfast/
LOCATION:St. Pius X\, 45 Elm St.\, Westerly\, RI\, 02891
CATEGORIES:Annual Event,Public Event,Society Event
END:VEVENT
END:VCALENDAR